BEGIN:VCALENDAR
VERSION:2.0
PRODID:-//ChamberMaster//Event Calendar 2.0//EN
METHOD:PUBLISH
X-PUBLISHED-TTL:P3D
REFRESH-INTERVAL:P3D
CALSCALE:GREGORIAN
BEGIN:VEVENT
DTSTART:20220621T150000Z
DTEND:20220621T160000Z
X-MICROSOFT-CDO-ALLDAYEVENT:FALSE
SUMMARY:Juneteenth Flag Raising
DESCRIPTION:
X-ALT-DESC;FMTTYPE=text/html:
LOCATION:John R. Park Building Lobby
UID:e.3258.671
SEQUENCE:3
DTSTAMP:20260425T030736Z
URL:http://uaacc.chambermaster.com/events/details/juneteenth-flag-raising-671
END:VEVENT

END:VCALENDAR
