BEGIN:VCALENDAR
VERSION:2.0
PRODID:-//ChamberMaster//Event Calendar 2.0//EN
METHOD:PUBLISH
X-PUBLISHED-TTL:P3D
REFRESH-INTERVAL:P3D
CALSCALE:GREGORIAN
BEGIN:VEVENT
DTSTART;VALUE=DATE:20220903
DTEND;VALUE=DATE:20220904
TRANSP:TRANSPARENT
X-MICROSOFT-CDO-ALLDAYEVENT:TRUE
SUMMARY:IVAD
DESCRIPTION:
X-ALT-DESC;FMTTYPE=text/html:
LOCATION:Tracy Aviary & Jordan River Nature Center
UID:e.3258.645
SEQUENCE:3
DTSTAMP:20260421T040303Z
URL:http://uaacc.chambermaster.com/events/details/ivad-645
END:VEVENT

END:VCALENDAR
