BEGIN:VCALENDAR
VERSION:2.0
PRODID:-//ChamberMaster//Event Calendar 2.0//EN
METHOD:PUBLISH
X-PUBLISHED-TTL:P3D
REFRESH-INTERVAL:P3D
CALSCALE:GREGORIAN
BEGIN:VEVENT
DTSTART:20220812T000000Z
DTEND:20220812T040000Z
X-MICROSOFT-CDO-ALLDAYEVENT:FALSE
SUMMARY:Birds And Brew: Fall Migration
DESCRIPTION:Birds and Brew is back for a special evening of fall migration education. Join us for beer from Fisher Brewing Company and Sugarhouse Distillery while exploring Aviary grounds after hours. You'll learn how you can help migrating birds\, and learn more about our night skies.
X-ALT-DESC;FMTTYPE=text/html:Birds and Brew is back for a special evening of fall migration education. Join us for beer from Fisher Brewing Company and Sugarhouse Distillery while exploring Aviary grounds after hours. You&#39\;ll learn how you can help migrating birds\, and learn more about our night skies.
LOCATION:Tracy Aviary & Jordan River Nature Center
UID:e.3258.643
SEQUENCE:3
DTSTAMP:20260422T141931Z
URL:http://uaacc.chambermaster.com/events/details/birds-and-brew-fall-migration-643
END:VEVENT

END:VCALENDAR
